BEGIN:VCALENDAR
VERSION:2.0
PRODID:DPCALENDAR
CALSCALE:GREGORIAN
BEGIN:VTIMEZONE
TZID:Europe/Berlin
X-MICROSOFT-CDO-TZID:4
BEGIN:STANDARD
DTSTART:20251026T010000
TZOFFSETFROM:+0200
TZOFFSETTO:+0100
TZNAME:CET
END:STANDARD
BEGIN:STANDARD
DTSTART:20261025T010000
TZOFFSETFROM:+0200
TZOFFSETTO:+0100
TZNAME:CET
END:STANDARD
BEGIN:DAYLIGHT
DTSTART:20260329T010000
TZOFFSETFROM:+0100
TZOFFSETTO:+0200
TZNAME:CEST
END:DAYLIGHT
END:VTIMEZONE
X-WR-TIMEZONE:Europe/Berlin
BEGIN:VEVENT
DTSTART;VALUE=DATE:20250412
DTEND;VALUE=DATE:20250413
UID:C75CCF9A-3285-4D12-A86E-2EA7F2585E6C
SUMMARY:Wasser wird angestellt
CREATED:20240130T195439Z
DTSTAMP:20240130T195439Z
URL:https://kgvsalzburgerstrasse.de/alletermine/wasser-wird-angestellt
DESCRIPTION:\NWasser wird angestellt\NBitte darauf achten, dass die Hähne geschlossen sind und nicht vergessen, in den nächsten 14 Tagen die Wasseruhren einzubauen!\N
X-ALT-DESC;FMTTYPE=text/html:<div class="com-dpcalendar-event__description-content">\N<p><strong>Wasser wird angestellt</strong></p>\N<p>Bitte darauf achten, dass die Hähne geschlossen sind und nicht vergessen, in den nächsten 14 Tagen die Wasseruhren einzubauen!</p>\N</div>
LAST-MODIFIED:20250404T182539Z
SEQUENCE:37146660
X-ACCESS:1
X-HITS:16
X-COLOR:a1d61e
X-SHOW-END-TIME:1
END:VEVENT
BEGIN:VEVENT
DTSTART;TZID=Europe/Berlin:20260112T180000
DTEND;TZID=Europe/Berlin:20260112T190000
UID:2482B0BE-AD70-4582-A0B0-843B411E7849
SUMMARY:Vorstandssitzung
CREATED:20240130T200544Z
DTSTAMP:20240130T200544Z
URL:https://kgvsalzburgerstrasse.de/alletermine/vorstandssitzung-2
DESCRIPTION:Vorstandssitzung im Vereinsheim
X-ALT-DESC;FMTTYPE=text/html:<p>Vorstandssitzung im Vereinsheim</p>
LAST-MODIFIED:20260124T152103Z
SEQUENCE:62622919
X-ACCESS:1
X-HITS:9
X-COLOR:a1d61e
X-SHOW-END-TIME:0
END:VEVENT
BEGIN:VEVENT
DTSTART;TZID=Europe/Berlin:20260202T180000
DTEND;TZID=Europe/Berlin:20260202T190000
UID:3E7FD805-28C5-4F0C-8A51-EFCEB6B35EC2
SUMMARY:Vorstandssitzung
CREATED:20240130T200544Z
DTSTAMP:20240130T200544Z
URL:https://kgvsalzburgerstrasse.de/alletermine/vorstandssitzung-3
DESCRIPTION:Vorstandssitzung im Vereinsheim
X-ALT-DESC;FMTTYPE=text/html:<p>Vorstandssitzung im Vereinsheim</p>
LAST-MODIFIED:20260124T143800Z
SEQUENCE:62620336
X-ACCESS:1
X-HITS:18
X-COLOR:a1d61e
X-SHOW-END-TIME:0
END:VEVENT
BEGIN:VEVENT
DTSTART;VALUE=DATE:20260301
DTEND;VALUE=DATE:20260302
UID:CEFF5720-FC7B-49A2-A594-EDB280A3B379
SUMMARY:Pachtkassierung
CREATED:20240130T164127Z
DTSTAMP:20240130T164127Z
URL:https://kgvsalzburgerstrasse.de/alletermine/pachtkassierung
DESCRIPTION:Pachtkassierung einschließlich Laubenversicherung erfolgt per Rechnung im März
X-ALT-DESC;FMTTYPE=text/html:<p>Pachtkassierung einschließlich Laubenversicherung erfolgt <strong>per Rechnung im März</strong></p>
LAST-MODIFIED:20260124T143943Z
SEQUENCE:62632696
X-ACCESS:1
X-HITS:27
X-COLOR:a1d61e
X-SHOW-END-TIME:0
END:VEVENT
BEGIN:VEVENT
DTSTART;TZID=Europe/Berlin:20260302T180000
DTEND;TZID=Europe/Berlin:20260302T190000
UID:512DD6B9-CF2C-4AFB-B59E-FB28B21CA434
SUMMARY:Vorstands-Sitzung
CREATED:20240130T200544Z
DTSTAMP:20240130T200544Z
URL:https://kgvsalzburgerstrasse.de/alletermine/vorstandssitzung-4
DESCRIPTION:Vorstandssitzung im Vereinsheim
X-ALT-DESC;FMTTYPE=text/html:<p>Vorstandssitzung im Vereinsheim</p>
LAST-MODIFIED:20260205T081840Z
SEQUENCE:63634376
X-ACCESS:1
X-HITS:14
X-COLOR:a1d61e
X-SHOW-END-TIME:0
END:VEVENT
BEGIN:VEVENT
DTSTART;TZID=Europe/Berlin:20260306T180000
DTEND;TZID=Europe/Berlin:20260306T210000
UID:ADC40E22-8A59-439A-A8E4-D4DDFF720F0F
SUMMARY:Mitglieder-Versammlung
CREATED:20240130T163310Z
DTSTAMP:20240130T163310Z
URL:https://kgvsalzburgerstrasse.de/alletermine/mitgliederversammlung-2
DESCRIPTION:\NMitgliederversammlung\NPflegeheim Altleuben 10 / Eingang Hertzstraße\N
X-ALT-DESC;FMTTYPE=text/html:<div class="com-dpcalendar-event__description-content">\N<p><strong>Mitgliederversammlung</strong></p>\N<p>Pflegeheim Altleuben 10 / Eingang Hertzstraße</p>\N</div>
LAST-MODIFIED:20260124T144420Z
SEQUENCE:62633470
X-ACCESS:1
X-HITS:37
X-COLOR:a1d61e
X-SHOW-END-TIME:0
END:VEVENT
BEGIN:VEVENT
DTSTART;TZID=Europe/Berlin:20260314T080000
DTEND;TZID=Europe/Berlin:20260314T120000
UID:EAAD573A-FF42-4E16-A1AB-9A145F3B2623
SUMMARY:Arbeits-Einsatz
CREATED:20240130T164127Z
DTSTAMP:20240130T164127Z
URL:https://kgvsalzburgerstrasse.de/alletermine/arbeits-einsatz-0
LAST-MODIFIED:20260124T150011Z
SEQUENCE:62633924
X-ACCESS:1
X-HITS:9
X-COLOR:a1d61e
X-SHOW-END-TIME:1
END:VEVENT
BEGIN:VEVENT
DTSTART;TZID=Europe/Berlin:20260314T100000
DTEND;TZID=Europe/Berlin:20260314T110000
UID:B4185BC9-FA70-4BD5-8711-BD3A60BB3FE7
SUMMARY:Beratung der Wegeobleute
CREATED:20240130T194735Z
DTSTAMP:20240130T194735Z
URL:https://kgvsalzburgerstrasse.de/alletermine/beratung-der-wegeobleute
DESCRIPTION:Beratung der Wegeobleute im Vereinsheim
X-ALT-DESC;FMTTYPE=text/html:<p>Beratung der Wegeobleute im Vereinsheim</p>
LAST-MODIFIED:20260124T144024Z
SEQUENCE:62621569
X-ACCESS:1
X-HITS:15
X-COLOR:a1d61e
X-SHOW-END-TIME:0
END:VEVENT
BEGIN:VEVENT
DTSTART;VALUE=DATE:20260403
DTEND;VALUE=DATE:20260404
UID:072E9620-324A-49F3-83FC-3A1D9B5D0B93
SUMMARY:Karfreitag
CREATED:20250523T113916Z
DTSTAMP:20250523T113916Z
URL:https://kgvsalzburgerstrasse.de/alletermine/karfreitag
LAST-MODIFIED:20260124T151049Z
SEQUENCE:21267093
X-ACCESS:1
X-HITS:6
X-COLOR:ffcccc
X-SHOW-END-TIME:0
END:VEVENT
BEGIN:VEVENT
DTSTART;VALUE=DATE:20260406
DTEND;VALUE=DATE:20260407
UID:072E9620-324A-49F3-83FC-3A1D9B5D0B93
SUMMARY:Ostermontag
CREATED:20250523T113916Z
DTSTAMP:20250523T113916Z
URL:https://kgvsalzburgerstrasse.de/alletermine/ostermontag
LAST-MODIFIED:20260124T151109Z
SEQUENCE:21267113
X-ACCESS:1
X-HITS:10
X-COLOR:ffcccc
X-SHOW-END-TIME:0
END:VEVENT
BEGIN:VEVENT
DTSTART;TZID=Europe/Berlin:20260413T180000
DTEND;TZID=Europe/Berlin:20260413T190000
UID:416AAC2A-2587-483A-8C78-D0BF27384640
SUMMARY:Vorstands-Sitzung
CREATED:20240130T200544Z
DTSTAMP:20240130T200544Z
URL:https://kgvsalzburgerstrasse.de/alletermine/vorstandssitzung-5
DESCRIPTION:Vorstandssitzung im Vereinsheim
X-ALT-DESC;FMTTYPE=text/html:<p>Vorstandssitzung im Vereinsheim</p>
LAST-MODIFIED:20260124T144842Z
SEQUENCE:62620978
X-ACCESS:1
X-HITS:8
X-COLOR:a1d61e
X-SHOW-END-TIME:0
END:VEVENT
BEGIN:VEVENT
DTSTART;TZID=Europe/Berlin:20260418T080000
DTEND;TZID=Europe/Berlin:20260418T120000
UID:A169F330-57F9-4319-9F6E-798DB826DF30
SUMMARY:Arbeits-Einsatz
CREATED:20240130T164127Z
DTSTAMP:20240130T164127Z
URL:https://kgvsalzburgerstrasse.de/alletermine/arbeits-einsatz
LAST-MODIFIED:20260124T150151Z
SEQUENCE:62634024
X-ACCESS:1
X-HITS:16
X-COLOR:a1d61e
X-SHOW-END-TIME:1
END:VEVENT
BEGIN:VEVENT
DTSTART;TZID=Europe/Berlin:20260418T100000
DTEND;TZID=Europe/Berlin:20260418T110000
UID:C584583F-E557-4C43-9C6C-4EA435E90169
SUMMARY:Vorstands-Sprechstunde
CREATED:20240130T200544Z
DTSTAMP:20240130T200544Z
URL:https://kgvsalzburgerstrasse.de/alletermine/vorstands-sprechstunde
DESCRIPTION:Vorstands-Sprechstunde im Vereinsheim
X-ALT-DESC;FMTTYPE=text/html:<p>Vorstands-Sprechstunde im Vereinsheim</p>
LAST-MODIFIED:20260124T145749Z
SEQUENCE:62621525
X-ACCESS:1
X-HITS:11
X-COLOR:a1d61e
X-SHOW-END-TIME:1
END:VEVENT
BEGIN:VEVENT
DTSTART;VALUE=DATE:20260501
DTEND;VALUE=DATE:20260502
UID:072E9620-324A-49F3-83FC-3A1D9B5D0B93
SUMMARY:Tag der Arbeit
CREATED:20250523T113916Z
DTSTAMP:20250523T113916Z
URL:https://kgvsalzburgerstrasse.de/alletermine/tag-der-arbeit
LAST-MODIFIED:20260124T151501Z
SEQUENCE:21267345
X-ACCESS:1
X-HITS:1
X-COLOR:ffcccc
X-SHOW-END-TIME:0
END:VEVENT
BEGIN:VEVENT
DTSTART;TZID=Europe/Berlin:20260511T180000
DTEND;TZID=Europe/Berlin:20260511T190000
UID:3912E97F-13F2-4574-9B33-231B2FF7BD50
SUMMARY:Vorstands-Sitzung
CREATED:20240130T200544Z
DTSTAMP:20240130T200544Z
URL:https://kgvsalzburgerstrasse.de/alletermine/vorstandssitzung-6
DESCRIPTION:Vorstandssitzung im Vereinsheim
X-ALT-DESC;FMTTYPE=text/html:<p>Vorstandssitzung im Vereinsheim</p>
LAST-MODIFIED:20260124T144857Z
SEQUENCE:62620993
X-ACCESS:1
X-HITS:11
X-COLOR:a1d61e
X-SHOW-END-TIME:0
END:VEVENT
BEGIN:VEVENT
DTSTART;TZID=Europe/Berlin:20260516T080000
DTEND;TZID=Europe/Berlin:20260516T120000
UID:C1DA64DD-7BCA-4A1F-8C29-6B96748CAF2F
SUMMARY:Arbeits-Einsatz
CREATED:20240130T164127Z
DTSTAMP:20240130T164127Z
URL:https://kgvsalzburgerstrasse.de/alletermine/arbeits-einsatz-2
LAST-MODIFIED:20260124T150236Z
SEQUENCE:62634069
X-ACCESS:1
X-HITS:21
X-COLOR:a1d61e
X-SHOW-END-TIME:1
END:VEVENT
BEGIN:VEVENT
DTSTART;TZID=Europe/Berlin:20260516T100000
DTEND;TZID=Europe/Berlin:20260516T110000
UID:9C97B270-5873-4CFD-A73A-0174F8C66FB9
SUMMARY:Vorstands-Sprechstunde
CREATED:20240130T200544Z
DTSTAMP:20240130T200544Z
URL:https://kgvsalzburgerstrasse.de/alletermine/vorstands-sprechstunde-2
DESCRIPTION:Vorstands-Sprechstunde im Vereinsheim
X-ALT-DESC;FMTTYPE=text/html:<p>Vorstands-Sprechstunde im Vereinsheim</p>
LAST-MODIFIED:20260124T145653Z
SEQUENCE:62621469
X-ACCESS:1
X-HITS:9
X-COLOR:a1d61e
X-SHOW-END-TIME:1
END:VEVENT
BEGIN:VEVENT
DTSTART;VALUE=DATE:20260524
DTEND;VALUE=DATE:20260526
UID:072E9620-324A-49F3-83FC-3A1D9B5D0B93
SUMMARY:Pfingsten
CREATED:20250523T113916Z
DTSTAMP:20250523T113916Z
URL:https://kgvsalzburgerstrasse.de/alletermine/pfingsten
LAST-MODIFIED:20260124T151233Z
SEQUENCE:21267197
X-ACCESS:1
X-HITS:7
X-COLOR:ffcccc
X-SHOW-END-TIME:0
END:VEVENT
BEGIN:VEVENT
DTSTART;TZID=Europe/Berlin:20260608T180000
DTEND;TZID=Europe/Berlin:20260608T190000
UID:7FBAEA0E-83F5-47A5-BDB0-D0B0FBA63237
SUMMARY:Vorstands-Sitzung
CREATED:20240130T200544Z
DTSTAMP:20240130T200544Z
URL:https://kgvsalzburgerstrasse.de/alletermine/vorstandssitzung-7
DESCRIPTION:Vorstandssitzung im Vereinsheim
X-ALT-DESC;FMTTYPE=text/html:<p>Vorstandssitzung im Vereinsheim</p>
LAST-MODIFIED:20260124T144926Z
SEQUENCE:62621022
X-ACCESS:1
X-HITS:8
X-COLOR:a1d61e
X-SHOW-END-TIME:0
END:VEVENT
BEGIN:VEVENT
DTSTART;TZID=Europe/Berlin:20260613T080000
DTEND;TZID=Europe/Berlin:20260613T120000
UID:6688812B-47A9-45AB-BAFB-5C65FA64CA18
SUMMARY:Arbeits-Einsatz
CREATED:20240130T164127Z
DTSTAMP:20240130T164127Z
URL:https://kgvsalzburgerstrasse.de/alletermine/arbeits-einsatz-3
LAST-MODIFIED:20260124T150332Z
SEQUENCE:62634125
X-ACCESS:1
X-HITS:12
X-COLOR:a1d61e
X-SHOW-END-TIME:1
END:VEVENT
BEGIN:VEVENT
DTSTART;TZID=Europe/Berlin:20260613T100000
DTEND;TZID=Europe/Berlin:20260613T110000
UID:91CD524A-012B-4D1C-8C19-EFE7A7E2B829
SUMMARY:Vorstands-Sprechstunde
CREATED:20240130T200544Z
DTSTAMP:20240130T200544Z
URL:https://kgvsalzburgerstrasse.de/alletermine/vorstands-sprechstunde-3
DESCRIPTION:Vorstands-Sprechstunde im Vereinsheim
X-ALT-DESC;FMTTYPE=text/html:<p>Vorstands-Sprechstunde im Vereinsheim</p>
LAST-MODIFIED:20260124T145255Z
SEQUENCE:62621231
X-ACCESS:1
X-HITS:8
X-COLOR:a1d61e
X-SHOW-END-TIME:1
END:VEVENT
BEGIN:VEVENT
DTSTART;TZID=Europe/Berlin:20260713T180000
DTEND;TZID=Europe/Berlin:20260713T190000
UID:7D3628AA-99EB-4DA3-B737-F1193C8DFEFF
SUMMARY:Vorstands-Sitzung
CREATED:20240130T200544Z
DTSTAMP:20240130T200544Z
URL:https://kgvsalzburgerstrasse.de/alletermine/vorstandssitzung-8
DESCRIPTION:Vorstandssitzung im Vereinsheim
X-ALT-DESC;FMTTYPE=text/html:<p>Vorstandssitzung im Vereinsheim</p>
LAST-MODIFIED:20260124T144944Z
SEQUENCE:62621040
X-ACCESS:1
X-HITS:8
X-COLOR:a1d61e
X-SHOW-END-TIME:0
END:VEVENT
BEGIN:VEVENT
DTSTART;TZID=Europe/Berlin:20260718T080000
DTEND;TZID=Europe/Berlin:20260718T120000
UID:2C047633-7DDA-404C-87F2-EE74C7AF9F9E
SUMMARY:Arbeits-Einsatz
CREATED:20240130T164127Z
DTSTAMP:20240130T164127Z
URL:https://kgvsalzburgerstrasse.de/alletermine/arbeits-einsatz-4
LAST-MODIFIED:20260124T150446Z
SEQUENCE:62634199
X-ACCESS:1
X-HITS:13
X-COLOR:a1d61e
X-SHOW-END-TIME:1
END:VEVENT
BEGIN:VEVENT
DTSTART;TZID=Europe/Berlin:20260718T100000
DTEND;TZID=Europe/Berlin:20260718T110000
UID:DFBADC8B-2140-4241-A052-303C61E02FF4
SUMMARY:Vorstands-Sprechstunde
CREATED:20240130T200544Z
DTSTAMP:20240130T200544Z
URL:https://kgvsalzburgerstrasse.de/alletermine/vorstands-sprechstunde-4
DESCRIPTION:Vorstands-Sprechstunde im Vereinsheim
X-ALT-DESC;FMTTYPE=text/html:<p>Vorstands-Sprechstunde im Vereinsheim</p>
LAST-MODIFIED:20260124T145324Z
SEQUENCE:62621260
X-ACCESS:1
X-HITS:9
X-COLOR:a1d61e
X-SHOW-END-TIME:1
END:VEVENT
BEGIN:VEVENT
DTSTART;VALUE=DATE:20260724
DTEND;VALUE=DATE:20260726
UID:F1C847BD-7AE1-42D9-A8D8-E87CEFB45235
SUMMARY:Sommerfest
CREATED:20240130T195439Z
DTSTAMP:20240130T195439Z
URL:https://kgvsalzburgerstrasse.de/alletermine/sommerfest
DESCRIPTION:Unser Sommerfest findet am 24.-25.07. statt.Anmeldung zu jedem Arbeitseinsatz
X-ALT-DESC;FMTTYPE=text/html:<div class="com-dpcalendar-event__description-content">Unser Sommerfest findet am 24.-25.07. statt.<br>Anmeldung zu jedem Arbeitseinsatz<strong><br></strong></div>
LAST-MODIFIED:20260124T144709Z
SEQUENCE:62621550
X-ACCESS:1
X-HITS:253
X-COLOR:a1d61e
X-SHOW-END-TIME:0
END:VEVENT
BEGIN:VEVENT
DTSTART;TZID=Europe/Berlin:20260810T180000
DTEND;TZID=Europe/Berlin:20260810T190000
UID:7D3628AA-99EB-4DA3-B737-F1193C8DFEFF
SUMMARY:Vorstands-Sitzung
CREATED:20240130T200544Z
DTSTAMP:20240130T200544Z
URL:https://kgvsalzburgerstrasse.de/alletermine/vorstandssitzung-13
DESCRIPTION:Vorstandssitzung im Vereinsheim
X-ALT-DESC;FMTTYPE=text/html:<p>Vorstandssitzung im Vereinsheim</p>
LAST-MODIFIED:20260124T144959Z
SEQUENCE:62621055
X-ACCESS:1
X-HITS:7
X-COLOR:a1d61e
X-SHOW-END-TIME:0
END:VEVENT
BEGIN:VEVENT
DTSTART;TZID=Europe/Berlin:20260815T100000
DTEND;TZID=Europe/Berlin:20260815T110000
UID:53B885F8-2373-4011-8D41-BC8AC83A288A
SUMMARY:Vorstands-Sprechstunde
CREATED:20240130T200544Z
DTSTAMP:20240130T200544Z
URL:https://kgvsalzburgerstrasse.de/alletermine/vorstands-sprechstunde-5
DESCRIPTION:Vorstands-Sprechstunde im Vereinsheim
X-ALT-DESC;FMTTYPE=text/html:<p>Vorstands-Sprechstunde im Vereinsheim</p>
LAST-MODIFIED:20260124T145346Z
SEQUENCE:62621282
X-ACCESS:1
X-HITS:10
X-COLOR:a1d61e
X-SHOW-END-TIME:1
END:VEVENT
BEGIN:VEVENT
DTSTART;TZID=Europe/Berlin:20260907T180000
DTEND;TZID=Europe/Berlin:20260907T190000
UID:70CF47DD-4BD7-46FF-9985-C976A66D3EB5
SUMMARY:Vorstands-Sitzung
CREATED:20240130T200544Z
DTSTAMP:20240130T200544Z
URL:https://kgvsalzburgerstrasse.de/alletermine/vorstandssitzung-9
DESCRIPTION:Vorstandssitzung im Vereinsheim
X-ALT-DESC;FMTTYPE=text/html:<p>Vorstandssitzung im Vereinsheim</p>
LAST-MODIFIED:20260124T145024Z
SEQUENCE:62621080
X-ACCESS:1
X-HITS:8
X-COLOR:a1d61e
X-SHOW-END-TIME:0
END:VEVENT
BEGIN:VEVENT
DTSTART;TZID=Europe/Berlin:20260912T080000
DTEND;TZID=Europe/Berlin:20260912T120000
UID:EAAD573A-FF42-4E16-A1AB-9A145F3B2623
SUMMARY:Arbeits-Einsatz
CREATED:20240130T164127Z
DTSTAMP:20240130T164127Z
URL:https://kgvsalzburgerstrasse.de/alletermine/arbeits-einsatz-5
LAST-MODIFIED:20260124T150538Z
SEQUENCE:62634251
X-ACCESS:1
X-HITS:14
X-COLOR:a1d61e
X-SHOW-END-TIME:1
END:VEVENT
BEGIN:VEVENT
DTSTART;TZID=Europe/Berlin:20260912T080000
DTEND;TZID=Europe/Berlin:20260912T120000
UID:C75CCF9A-3285-4D12-A86E-2EA7F2585E6C
SUMMARY:Ablesen der Elektro- und Wasserzähler
CREATED:20240130T195439Z
DTSTAMP:20240130T195439Z
URL:https://kgvsalzburgerstrasse.de/alletermine/ablesen-der-elektro-und-wasserzaehler
DESCRIPTION:\NAblesung der Strom- & Wasserzähler\NEs besteht Anwesenheitspflicht jedes Pächters!\N
X-ALT-DESC;FMTTYPE=text/html:<div class="com-dpcalendar-event__description-content">\N<p><strong>Ablesung der Strom- &amp; Wasserzähler</strong></p>\N<p>Es besteht Anwesenheitspflicht jedes Pächters!</p>\N</div>
LAST-MODIFIED:20260124T144155Z
SEQUENCE:62621236
X-ACCESS:1
X-HITS:14
X-COLOR:a1d61e
X-SHOW-END-TIME:1
END:VEVENT
BEGIN:VEVENT
DTSTART;TZID=Europe/Berlin:20260912T100000
DTEND;TZID=Europe/Berlin:20260912T110000
UID:9EA4870F-AE4B-47CE-9340-CBC5D6983FDD
SUMMARY:Vorstands-Sprechstunde
CREATED:20240130T200544Z
DTSTAMP:20240130T200544Z
URL:https://kgvsalzburgerstrasse.de/alletermine/vorstands-sprechstunde-6
DESCRIPTION:Vorstands-Sprechstunde im Vereinsheim
X-ALT-DESC;FMTTYPE=text/html:<p>Vorstands-Sprechstunde im Vereinsheim</p>
LAST-MODIFIED:20260124T145404Z
SEQUENCE:62621300
X-ACCESS:1
X-HITS:13
X-COLOR:a1d61e
X-SHOW-END-TIME:1
END:VEVENT
BEGIN:VEVENT
DTSTART;VALUE=DATE:20261001
DTEND;VALUE=DATE:20261002
UID:D4EAE8F5-16F8-437B-AC50-C90421159DD4
SUMMARY:Kassierung Strom, Wasser, Grube, priv. Versicherung
CREATED:20240130T195947Z
DTSTAMP:20240130T195947Z
URL:https://kgvsalzburgerstrasse.de/alletermine/kassierung-strom-wasser-grube-priv-versicherung
DESCRIPTION:Kassierung Strom, Wasser, Grube, priv. Versicherung erfolgt per Rechnung im Oktober
X-ALT-DESC;FMTTYPE=text/html:<p>Kassierung Strom, Wasser, Grube, priv. Versicherung erfolgt <strong>per Rechnung im Oktober</strong></p>
LAST-MODIFIED:20260124T150823Z
SEQUENCE:62622516
X-ACCESS:1
X-HITS:15
X-COLOR:a1d61e
X-SHOW-END-TIME:0
END:VEVENT
BEGIN:VEVENT
DTSTART;TZID=Europe/Berlin:20261012T180000
DTEND;TZID=Europe/Berlin:20261012T190000
UID:2857667F-D0A1-48EA-A157-CDC16462DC77
SUMMARY:Vorstands-Sitzung
CREATED:20240130T200544Z
DTSTAMP:20240130T200544Z
URL:https://kgvsalzburgerstrasse.de/alletermine/vorstandssitzung-10
DESCRIPTION:Vorstandssitzung im Vereinsheim
X-ALT-DESC;FMTTYPE=text/html:<p>Vorstandssitzung im Vereinsheim</p>
LAST-MODIFIED:20260124T145041Z
SEQUENCE:62621097
X-ACCESS:1
X-HITS:9
X-COLOR:a1d61e
X-SHOW-END-TIME:0
END:VEVENT
BEGIN:VEVENT
DTSTART;TZID=Europe/Berlin:20261017T080000
DTEND;TZID=Europe/Berlin:20261017T120000
UID:35B3A5C8-21D9-45FF-81B4-ECE921F4EBFA
SUMMARY:Arbeits-Einsatz
CREATED:20240130T164127Z
DTSTAMP:20240130T164127Z
URL:https://kgvsalzburgerstrasse.de/alletermine/arbeits-einsatz-6
LAST-MODIFIED:20260124T150556Z
SEQUENCE:62634269
X-ACCESS:1
X-HITS:11
X-COLOR:a1d61e
X-SHOW-END-TIME:1
END:VEVENT
BEGIN:VEVENT
DTSTART;TZID=Europe/Berlin:20261017T100000
DTEND;TZID=Europe/Berlin:20261017T110000
UID:BCC368FF-876D-4D85-A5CB-4D699C4479DD
SUMMARY:Vorstands-Sprechstunde
CREATED:20240130T200544Z
DTSTAMP:20240130T200544Z
URL:https://kgvsalzburgerstrasse.de/alletermine/vorstands-sprechstunde-7
DESCRIPTION:Vorstands-Sprechstunde im Vereinsheim
X-ALT-DESC;FMTTYPE=text/html:<p>Vorstands-Sprechstunde im Vereinsheim</p>
LAST-MODIFIED:20260124T145422Z
SEQUENCE:62621318
X-ACCESS:1
X-HITS:10
X-COLOR:a1d61e
X-SHOW-END-TIME:1
END:VEVENT
BEGIN:VEVENT
DTSTART;VALUE=DATE:20261023
DTEND;VALUE=DATE:20261024
UID:35B3A5C8-21D9-45FF-81B4-ECE921F4EBFA
SUMMARY:LETZTE! Grubenentleerung
CREATED:20240130T164127Z
DTSTAMP:20240130T164127Z
URL:https://kgvsalzburgerstrasse.de/alletermine/letzte-grubenentleerung
LAST-MODIFIED:20260124T151716Z
SEQUENCE:62634949
X-ACCESS:1
X-HITS:1
X-COLOR:a1d61e
X-SHOW-END-TIME:1
END:VEVENT
BEGIN:VEVENT
DTSTART;VALUE=DATE:20261031
DTEND;VALUE=DATE:20261101
UID:072E9620-324A-49F3-83FC-3A1D9B5D0B93
SUMMARY:Reformationstag
CREATED:20250523T113916Z
DTSTAMP:20250523T113916Z
URL:https://kgvsalzburgerstrasse.de/alletermine/reformationstag
LAST-MODIFIED:20260124T151253Z
SEQUENCE:21267217
X-ACCESS:1
X-HITS:4
X-COLOR:ffcccc
X-SHOW-END-TIME:0
END:VEVENT
BEGIN:VEVENT
DTSTART;TZID=Europe/Berlin:20261109T180000
DTEND;TZID=Europe/Berlin:20261109T190000
UID:959AD0D7-AF98-48BF-A86C-2BA49D069FD9
SUMMARY:Vorstands-Sitzung
CREATED:20240130T200544Z
DTSTAMP:20240130T200544Z
URL:https://kgvsalzburgerstrasse.de/alletermine/vorstandssitzung-11
DESCRIPTION:Vorstandssitzung im Vereinsheim
X-ALT-DESC;FMTTYPE=text/html:<p>Vorstandssitzung im Vereinsheim</p>
LAST-MODIFIED:20260124T145059Z
SEQUENCE:62621115
X-ACCESS:1
X-HITS:6
X-COLOR:a1d61e
X-SHOW-END-TIME:0
END:VEVENT
BEGIN:VEVENT
DTSTART;VALUE=DATE:20261118
DTEND;VALUE=DATE:20261119
UID:072E9620-324A-49F3-83FC-3A1D9B5D0B93
SUMMARY:Buß- und Bettag
CREATED:20250523T113916Z
DTSTAMP:20250523T113916Z
URL:https://kgvsalzburgerstrasse.de/alletermine/buss-und-bettag
LAST-MODIFIED:20260124T151320Z
SEQUENCE:21267244
X-ACCESS:1
X-HITS:3
X-COLOR:ffcccc
X-SHOW-END-TIME:0
END:VEVENT
BEGIN:VEVENT
DTSTART;TZID=Europe/Berlin:20261207T180000
DTEND;TZID=Europe/Berlin:20261207T190000
UID:42096D67-C921-4ED3-AE53-6794301C8A0B
SUMMARY:Vorstands-Sitzung
CREATED:20240130T200544Z
DTSTAMP:20240130T200544Z
URL:https://kgvsalzburgerstrasse.de/alletermine/vorstandssitzung-12
DESCRIPTION:Vorstandssitzung im Vereinsheim
X-ALT-DESC;FMTTYPE=text/html:<p>Vorstandssitzung im Vereinsheim</p>
LAST-MODIFIED:20260124T145126Z
SEQUENCE:62621142
X-ACCESS:1
X-HITS:9
X-COLOR:a1d61e
X-SHOW-END-TIME:0
END:VEVENT
BEGIN:VEVENT
DTSTART;VALUE=DATE:20261225
DTEND;VALUE=DATE:20261226
UID:072E9620-324A-49F3-83FC-3A1D9B5D0B93
SUMMARY:1.Weihnachtstag
CREATED:20250523T113916Z
DTSTAMP:20250523T113916Z
URL:https://kgvsalzburgerstrasse.de/alletermine/1-weihnachtstag
LAST-MODIFIED:20260124T151406Z
SEQUENCE:21267290
X-ACCESS:1
X-HITS:7
X-COLOR:ffcccc
X-SHOW-END-TIME:0
END:VEVENT
BEGIN:VEVENT
DTSTART;VALUE=DATE:20261226
DTEND;VALUE=DATE:20261227
UID:072E9620-324A-49F3-83FC-3A1D9B5D0B93
SUMMARY:2. Weihnachtstag
CREATED:20250523T113916Z
DTSTAMP:20250523T113916Z
URL:https://kgvsalzburgerstrasse.de/alletermine/2-weihnachtstag
LAST-MODIFIED:20260124T151419Z
SEQUENCE:21267303
X-ACCESS:1
X-HITS:2
X-COLOR:ffcccc
X-SHOW-END-TIME:0
END:VEVENT
END:VCALENDAR